BEGIN:VCALENDAR
PRODID:-//AT Content Types//AT Event//EN
VERSION:1.0
BEGIN:VEVENT
DTSTART:20240228T191500Z
DTEND:20240228T204500Z
DCREATED:20221103T170033Z
UID:ATEvent-6f0809e211e3432fa70d7e3dbb7960da
SEQUENCE:0
LAST-MODIFIED:20240126T135152Z
SUMMARY:Cheminer avec le Cantique des Cantiques
DESCRIPTION:Quand Dieu\, tel un jeune époux s’élance à notre renc
 ontre… ! Cheminer avec le « Cantique des Cantiques » (une renc
 ontre par mois : soit le mardi de 16h15 à 17h45\, soit le mercredi d
 e 20h15 à 21h45)Le Cantique des Cantiques\, le « super Cantique »
  nous offre une découverte captivante et passionnante de la façon qu
 ’a Dieu de nous rejoindre pour nous associer à son mystère d’All
 iance. Animé par frère Henri.
LOCATION:Brive Grottes Saint Antoine
PRIORITY:3
TRANSP:0
END:VEVENT
END:VCALENDAR
