BEGIN:VCALENDAR
PRODID:-//AT Content Types//AT Event//EN
VERSION:2.0
METHOD:PUBLISH
BEGIN:VEVENT
DTSTAMP:20260420T212141Z
CREATED:20211123T092630Z
UID:ATEvent-45b4e9cf5ba84e18afbf4b9731bb5027
LAST-MODIFIED:20221117T094740Z
SUMMARY:Braderie de NoĂ«l et bourse aux jouets du Secours Catholique
DTSTART:20221210T080000Z
DTEND:20221210T160000Z
DESCRIPTION:Le Secours Catholique de Brive organise la braderie de NoĂ
 Șl dans ses locaux. CafĂ© causette ou moment convivial Ă  passer autou
 r d'un encas avec l'Ă©quipe de Brive. Choix de vĂȘtements de qualitĂ©\
 , bibelots\, petits bijoux mais aussi livres\, vinyles ou CD Ă  prix m
 odiques\, soin apportĂ© aux jouets en ces moments de fĂȘte.
LOCATION:Brive 16 rue Jean Fieyre
CONTACT:Secours Catholique de Brive\, 05 87 49 59 72
CLASS:PUBLIC
END:VEVENT
END:VCALENDAR
