BEGIN:VCALENDAR
PRODID:-//AT Content Types//AT Event//EN
VERSION:1.0
BEGIN:VEVENT
DTSTART:20210823T160000Z
DTEND:20210829T120000Z
DCREATED:20210503T131424Z
UID:ATEvent-09d8ded85cac46adb6cd16cb33b725eb
SEQUENCE:0
LAST-MODIFIED:20210503T131552Z
SUMMARY:Avec la Vierge Marie\, un chemin de foi
DESCRIPTION:Retraite spirituelle avec Fr David Vern.
LOCATION:Brive Grottes St Antoine
PRIORITY:3
TRANSP:0
END:VEVENT
END:VCALENDAR
