BEGIN:VCALENDAR
PRODID:-//AT Content Types//AT Event//EN
VERSION:1.0
BEGIN:VEVENT
DTSTART:20180513T120000Z
DTEND:20180513T120000Z
DCREATED:20180426T141929Z
UID:ATEvent-a726c319df914420bec60c22d151027f
SEQUENCE:0
LAST-MODIFIED:20180426T143249Z
SUMMARY:Après-midi récréatrive avec la Société St Vincent de Paul
DESCRIPTION:La Société Saint Vincent de Paul invite tous les handica
 pés du département à une après-midi récréative. Tous les handica
 pés du département de la Corrèze y sont fraternellement invités.
LOCATION:Tulle Salle des fêtes de l'Auzelou
PRIORITY:3
TRANSP:0
END:VEVENT
END:VCALENDAR
