BEGIN:VCALENDAR
PRODID:-//AT Content Types//AT Event//EN
VERSION:1.0
BEGIN:VEVENT
DTSTART:20181211T160000Z
DTEND:20181211T160000Z
DCREATED:20181130T082812Z
UID:ATEvent-0a8ad832fae14e3f8a345a1260d00c4e
SEQUENCE:0
LAST-MODIFIED:20181130T083331Z
SUMMARY:70ème anniversaire de la déclaration des droits de l'homme
LOCATION:Brive ancienne piste de l'aerodrome Brive Laroche / Espace Chadourne
PRIORITY:3
TRANSP:0
END:VEVENT
END:VCALENDAR
