BEGIN:VCALENDAR
PRODID:-//AT Content Types//AT Event//EN
VERSION:2.0
METHOD:PUBLISH
BEGIN:VEVENT
DTSTAMP:20260419T170123Z
CREATED:20200921T140113Z
UID:ATEvent-606df7e4ff19424687ca8557eb177ed8
LAST-MODIFIED:20200921T140137Z
SUMMARY:1ère session du parcours de formation "CLEOPHAS"
DTSTART:20201015T220000Z
DTEND:20201016T220000Z
DESCRIPTION:Formation diocésaine tournée vers l'approfondissement de
  la relation au Christ et l'envoi en mission. Parcours sur 2 ans au ry
 thme de 4 cycles de 24 H chaque année. Le thème central de la 1ère 
 année est "vivre en disciple du Christ
LOCATION:Brive Grottes Saint Antoine
CLASS:PUBLIC
END:VEVENT
END:VCALENDAR
