BEGIN:VCALENDAR
PRODID:-//AT Content Types//AT Event//EN
VERSION:1.0
BEGIN:VEVENT
DTSTART:20200726T150000Z
DTEND:20200726T150000Z
DCREATED:20200612T073319Z
UID:ATEvent-455af2a6fc4e479aaa06bd10e945578f
SEQUENCE:0
LAST-MODIFIED:20200720T091905Z
SUMMARY:10ème Festival de l'Orgue - ANNULÉ
DESCRIPTION:En raison des circonstances sanitaires\, le festival de l'
 orgue est annulé…
LOCATION:Tulle Cathédrale
PRIORITY:3
TRANSP:0
END:VEVENT
END:VCALENDAR
